BEGIN:VCALENDAR
VERSION:2.0
PRODID:-//Muzeul Grev Kafi - ECPv6.14.2//NONSGML v1.0//EN
CALSCALE:GREGORIAN
METHOD:PUBLISH
X-WR-CALNAME:Muzeul Grev Kafi
X-ORIGINAL-URL:https://grevkafi.org/en
X-WR-CALDESC:Events for Muzeul Grev Kafi
REFRESH-INTERVAL;VALUE=DURATION:PT1H
X-Robots-Tag:noindex
X-PUBLISHED-TTL:PT1H
BEGIN:VTIMEZONE
TZID:Europe/Moscow
BEGIN:STANDARD
TZOFFSETFROM:+0300
TZOFFSETTO:+0300
TZNAME:MSK
DTSTART:20220101T000000
END:STANDARD
END:VTIMEZONE
BEGIN:VEVENT
DTSTART;TZID=Europe/Moscow:20220601T080000
DTEND;TZID=Europe/Moscow:20220630T170000
DTSTAMP:20260421T200048
CREATED:20220501T090155Z
LAST-MODIFIED:20250502T161953Z
UID:5505-1654070400-1656608400@grevkafi.org
SUMMARY:Expoziție dedicata zilei copiilor
DESCRIPTION:De ziua copiilor\, pe 1 iunie\, Muzeul Grev Kafi organizează o expoziție a operelor de artă din colecția instituției cu tematica copiilor. Tablourile expuse demonstrează spiritul observator al copiilor  și dorința lor de explora lumea înconjurătoare.Prin simboluri subtile și culori\, pictorul oferă o gamă largă de emoții și sentimente pe care le retrăiește fiecare copil la vârsta lui. Deși multe evenimente și stări interne ale vieții sunt uitate\, cele mai sensibile și puternice dăinuiesc și în inimile maturilor. \nDorința de a cunoaște\, bucuria venirii primăverii\, alergatul prin lanul cu flori\, sau datul în scrânciob sunt doar unele subiecte pictate de Grev Kafi și care sunt parte a expoziției. \nLansarea evenimentului va avea loc pe 1 iunie în incinta muzeului Grev Kafi. 								\n				\n					\n		\n					\n		\n				\n						\n					\n			\n							\n		\n					\n		\n				\n						\n					\n			\n						\n				\n							\n			\n			\n				\n			\n				\n				Lumea este plină de taine
URL:https://grevkafi.org/en/event/expozitie-dedicata-zilei-copiilor/
LOCATION:Muzeul Grev Kafi\, str. Alexandru cel Bun 115/C\, Chisinau\, MD-2004\, Moldova\, Republic of
CATEGORIES:Expozitie
ATTACH;FMTTYPE=image/jpeg:https://grevkafi.org/wp-content/uploads/2022/05/Grev-Kafi-AG029-Mir-polon-tayn-0B6M9498_01-01.jpg
ORGANIZER;CN="Muzeul Grev Kafi":MAILTO:grevkafi.museum@gmail.com
END:VEVENT
BEGIN:VEVENT
DTSTART;TZID=Europe/Moscow:20220424T120000
DTEND;TZID=Europe/Moscow:20220424T150000
DTSTAMP:20260421T200048
CREATED:20220424T194005Z
LAST-MODIFIED:20250502T162239Z
UID:6091-1650801600-1650812400@grevkafi.org
SUMMARY:Prezentare de carte "Povestiri" de Grev Kafi
DESCRIPTION:De ziua copiilor\, pe 1 iunie\, Muzeul Grev Kafi organizează o expoziție a operelor de artă din colecția instituției cu tematica copiilor. Tablourile expuse demonstrează spiritul observator al copiilor  și dorința lor de explora lumea înconjurătoare.Prin simboluri subtile și culori\, pictorul oferă o gamă largă de emoții și sentimente pe care le retrăiește fiecare copil la vârsta lui. Deși multe evenimente și stări interne ale vieții sunt uitate\, cele mai sensibile și puternice dăinuiesc și în inimile maturilor. \nDorința de a cunoaște\, bucuria venirii primăverii\, alergatul prin lanul cu flori\, sau datul în scrânciob sunt doar unele subiecte pictate de Grev Kafi și care sunt parte a expoziției. \nLansarea evenimentului va avea loc pe 1 iunie în incinta muzeului Grev Kafi. 								\n				\n					\n		\n					\n		\n				\n						\n					\n			\n							\n		\n					\n		\n				\n						\n					\n			\n						\n				\n							\n			\n			\n				\n			\n				\n				Lumea este plină de taine
URL:https://grevkafi.org/en/event/prezentare-de-carte-povestiri-de-grev-kafi/
LOCATION:Muzeul Grev Kafi\, str. Alexandru cel Bun 115/C\, Chisinau\, MD-2004\, Moldova\, Republic of
CATEGORIES:Eveniment
ATTACH;FMTTYPE=image/jpeg:https://grevkafi.org/wp-content/uploads/2022/05/279240644_421919083267240_2997227482037670353_n.jpg
ORGANIZER;CN="Muzeul Grev Kafi":MAILTO:grevkafi.museum@gmail.com
END:VEVENT
END:VCALENDAR